BEGIN:VCALENDAR
VERSION:2.0
PRODID:-//My Fleur - ECPv6.6.3//NONSGML v1.0//EN
CALSCALE:GREGORIAN
METHOD:PUBLISH
X-WR-CALNAME:My Fleur
X-ORIGINAL-URL:https://myfleur.uk
X-WR-CALDESC:Events for My Fleur
REFRESH-INTERVAL;VALUE=DURATION:PT1H
X-Robots-Tag:noindex
X-PUBLISHED-TTL:PT1H
BEGIN:VTIMEZONE
TZID:UTC
BEGIN:STANDARD
TZOFFSETFROM:+0000
TZOFFSETTO:+0000
TZNAME:UTC
DTSTART:20240101T000000
END:STANDARD
END:VTIMEZONE
BEGIN:VEVENT
DTSTART;TZID=UTC:20240831T080000
DTEND;TZID=UTC:20301209T170000
DTSTAMP:20260423T081959
CREATED:20240622T091159Z
LAST-MODIFIED:20240803T180954Z
UID:282899-1725091200-1923066000@myfleur.uk
SUMMARY:Pellentesque bibendum luctus magna sed rutrum.
DESCRIPTION:Nunc mattis sit amet erat mollis elementum. Phasellus metus ex\, consequat ac sapien non\, malesuada eleifend ligula. Maecenas arcu dui\, mattis id condimentum sit amet\, congue non nibh. Pellentesque ut elit sed turpis egestas ultricies. Cras facilisis vulputate sem pharetra pellentesque. Quisque est metus\, fermentum vitae sem et\, imperdiet tempus lorem. Aenean ornare non nisl ut lacinia. Morbi turpis sem\, sollicitudin at convallis vitae\, cursus dignissim ipsum. Sed in urna ornare\, tempor odio vel\, iaculis leo. Nam vitae lectus ac odio hendrerit auctor nec sit amet urna. Nullam laoreet elementum lectus\, ut cursus massa cursus id. \nIn efficitur dui non vulputate scelerisque. Integer ultricies placerat leo\, et gravida arcu posuere laoreet. Suspendisse ac scelerisque neque. Aliquam ultrices aliquet metus ut sollicitudin. Sed efficitur congue metus\, eget bibendum nunc mattis in. Mauris quis velit ac augue aliquam fermentum. In feugiat magna sed tellus varius\, id faucibus elit dictum. In vel varius urna\, vel consectetur justo. Pellentesque porta iaculis ante\, ac semper ante pretium maximus. Sed condimentum velit sem\, id blandit sapien faucibus viverra. In sit amet risus ac velit pellentesque vehicula facilisis quis ligula. Donec eleifend mauris euismod\, tristique libero sit amet\, volutpat sem. \nDonec scelerisque eros a laoreet aliquet. Nullam lobortis ante neque\, vitae commodo nulla hendrerit sit amet. In hendrerit\, nulla ut laoreet facilisis\, nunc risus lacinia eros\, sed eleifend dui velit in tellus. Nullam fermentum rutrum accumsan. Fusce aliquet congue sapien ornare tempus. Proin posuere id orci a mollis. Maecenas aliquet velit ex\, vitae auctor mi fermentum id. Mauris a diam ac lacus finibus porttitor varius ac ante. Donec porttitor\, ante vitae dapibus luctus\, dolor est hendrerit turpis\, vitae egestas neque nunc in ligula.
URL:https://myfleur.uk/event/pellentesque-bibendum-luctus-magna-sed-rutrum/
LOCATION:Hockwold\, Hockwold Cum Wilton Brandon\, Norfolk IP26 4HZ
ATTACH;FMTTYPE=image/jpeg:https://myfleur.uk/wp-content/uploads/2024/06/WhatsApp-Image-2024-06-22-at-5.45.51-AM-4.jpeg
END:VEVENT
BEGIN:VEVENT
DTSTART;TZID=UTC:20240831T080000
DTEND;TZID=UTC:20301209T170000
DTSTAMP:20260423T081959
CREATED:20240622T091349Z
LAST-MODIFIED:20240803T180937Z
UID:282900-1725091200-1923066000@myfleur.uk
SUMMARY:Pellentesque bibendum luctus magna sed rutrum.
DESCRIPTION:Nunc mattis sit amet erat mollis elementum. Phasellus metus ex\, consequat ac sapien non\, malesuada eleifend ligula. Maecenas arcu dui\, mattis id condimentum sit amet\, congue non nibh. Pellentesque ut elit sed turpis egestas ultricies. Cras facilisis vulputate sem pharetra pellentesque. Quisque est metus\, fermentum vitae sem et\, imperdiet tempus lorem. Aenean ornare non nisl ut lacinia. Morbi turpis sem\, sollicitudin at convallis vitae\, cursus dignissim ipsum. Sed in urna ornare\, tempor odio vel\, iaculis leo. Nam vitae lectus ac odio hendrerit auctor nec sit amet urna. Nullam laoreet elementum lectus\, ut cursus massa cursus id. \nIn efficitur dui non vulputate scelerisque. Integer ultricies placerat leo\, et gravida arcu posuere laoreet. Suspendisse ac scelerisque neque. Aliquam ultrices aliquet metus ut sollicitudin. Sed efficitur congue metus\, eget bibendum nunc mattis in. Mauris quis velit ac augue aliquam fermentum. In feugiat magna sed tellus varius\, id faucibus elit dictum. In vel varius urna\, vel consectetur justo. Pellentesque porta iaculis ante\, ac semper ante pretium maximus. Sed condimentum velit sem\, id blandit sapien faucibus viverra. In sit amet risus ac velit pellentesque vehicula facilisis quis ligula. Donec eleifend mauris euismod\, tristique libero sit amet\, volutpat sem. \nDonec scelerisque eros a laoreet aliquet. Nullam lobortis ante neque\, vitae commodo nulla hendrerit sit amet. In hendrerit\, nulla ut laoreet facilisis\, nunc risus lacinia eros\, sed eleifend dui velit in tellus. Nullam fermentum rutrum accumsan. Fusce aliquet congue sapien ornare tempus. Proin posuere id orci a mollis. Maecenas aliquet velit ex\, vitae auctor mi fermentum id. Mauris a diam ac lacus finibus porttitor varius ac ante. Donec porttitor\, ante vitae dapibus luctus\, dolor est hendrerit turpis\, vitae egestas neque nunc in ligula.
URL:https://myfleur.uk/event/pellentesque-bibendum-luctus-magna-sed-rutrum-2/
LOCATION:Hockwold\, Hockwold Cum Wilton Brandon\, Norfolk IP26 4HZ
ATTACH;FMTTYPE=image/jpeg:https://myfleur.uk/wp-content/uploads/2024/06/WhatsApp-Image-2024-06-22-at-5.45.51-AM-2.jpeg
END:VEVENT
BEGIN:VEVENT
DTSTART;TZID=UTC:20240831T080000
DTEND;TZID=UTC:20300930T170000
DTSTAMP:20260423T081959
CREATED:20240622T091428Z
LAST-MODIFIED:20240803T180836Z
UID:282901-1725091200-1917018000@myfleur.uk
SUMMARY:Pellentesque bibendum luctus magna sed rutrum.
DESCRIPTION:Nunc mattis sit amet erat mollis elementum. Phasellus metus ex\, consequat ac sapien non\, malesuada eleifend ligula. Maecenas arcu dui\, mattis id condimentum sit amet\, congue non nibh. Pellentesque ut elit sed turpis egestas ultricies. Cras facilisis vulputate sem pharetra pellentesque. Quisque est metus\, fermentum vitae sem et\, imperdiet tempus lorem. Aenean ornare non nisl ut lacinia. Morbi turpis sem\, sollicitudin at convallis vitae\, cursus dignissim ipsum. Sed in urna ornare\, tempor odio vel\, iaculis leo. Nam vitae lectus ac odio hendrerit auctor nec sit amet urna. Nullam laoreet elementum lectus\, ut cursus massa cursus id. \nIn efficitur dui non vulputate scelerisque. Integer ultricies placerat leo\, et gravida arcu posuere laoreet. Suspendisse ac scelerisque neque. Aliquam ultrices aliquet metus ut sollicitudin. Sed efficitur congue metus\, eget bibendum nunc mattis in. Mauris quis velit ac augue aliquam fermentum. In feugiat magna sed tellus varius\, id faucibus elit dictum. In vel varius urna\, vel consectetur justo. Pellentesque porta iaculis ante\, ac semper ante pretium maximus. Sed condimentum velit sem\, id blandit sapien faucibus viverra. In sit amet risus ac velit pellentesque vehicula facilisis quis ligula. Donec eleifend mauris euismod\, tristique libero sit amet\, volutpat sem. \nDonec scelerisque eros a laoreet aliquet. Nullam lobortis ante neque\, vitae commodo nulla hendrerit sit amet. In hendrerit\, nulla ut laoreet facilisis\, nunc risus lacinia eros\, sed eleifend dui velit in tellus. Nullam fermentum rutrum accumsan. Fusce aliquet congue sapien ornare tempus. Proin posuere id orci a mollis. Maecenas aliquet velit ex\, vitae auctor mi fermentum id. Mauris a diam ac lacus finibus porttitor varius ac ante. Donec porttitor\, ante vitae dapibus luctus\, dolor est hendrerit turpis\, vitae egestas neque nunc in ligula.
URL:https://myfleur.uk/event/pellentesque-bibendum-luctus-magna-sed-rutrum-3/
LOCATION:Hockwold\, Hockwold Cum Wilton Brandon\, Norfolk IP26 4HZ
ATTACH;FMTTYPE=image/jpeg:https://myfleur.uk/wp-content/uploads/2024/06/WhatsApp-Image-2024-06-22-at-5.45.51-AM-3.jpeg
END:VEVENT
END:VCALENDAR